BEGIN:VCALENDAR
VERSION:2.0
PRODID:-//Basilica di Santo Spirito - ECPv6.15.20//NONSGML v1.0//EN
CALSCALE:GREGORIAN
METHOD:PUBLISH
X-WR-CALNAME:Basilica di Santo Spirito
X-ORIGINAL-URL:https://www.basilicasantospirito.it
X-WR-CALDESC:Eventi per Basilica di Santo Spirito
REFRESH-INTERVAL;VALUE=DURATION:PT1H
X-Robots-Tag:noindex
X-PUBLISHED-TTL:PT1H
BEGIN:VTIMEZONE
TZID:Europe/Paris
BEGIN:DAYLIGHT
TZOFFSETFROM:+0100
TZOFFSETTO:+0200
TZNAME:CEST
DTSTART:20240331T010000
END:DAYLIGHT
BEGIN:STANDARD
TZOFFSETFROM:+0200
TZOFFSETTO:+0100
TZNAME:CET
DTSTART:20241027T010000
END:STANDARD
BEGIN:DAYLIGHT
TZOFFSETFROM:+0100
TZOFFSETTO:+0200
TZNAME:CEST
DTSTART:20250330T010000
END:DAYLIGHT
BEGIN:STANDARD
TZOFFSETFROM:+0200
TZOFFSETTO:+0100
TZNAME:CET
DTSTART:20251026T010000
END:STANDARD
BEGIN:DAYLIGHT
TZOFFSETFROM:+0100
TZOFFSETTO:+0200
TZNAME:CEST
DTSTART:20260329T010000
END:DAYLIGHT
BEGIN:STANDARD
TZOFFSETFROM:+0200
TZOFFSETTO:+0100
TZNAME:CET
DTSTART:20261025T010000
END:STANDARD
END:VTIMEZONE
BEGIN:VEVENT
DTSTART;TZID=Europe/Paris:20251106T173000
DTEND;TZID=Europe/Paris:20251106T183000
DTSTAMP:20260424T122941
CREATED:20251023T102215Z
LAST-MODIFIED:20251031T094218Z
UID:8389-1762450200-1762453800@www.basilicasantospirito.it
SUMMARY:Giovanni Cesare Pagazzi\, "Il quotidiano rivela. Sant'Agostino e i miracoli"
DESCRIPTION:Prima conferenza nell’ambito  del primo ciclo di conferenze del Centro Studi Internazionale Papa Leone XIV\, dedicato alla figura e al pensiero di Sant’Agostino. Relatore Giovanni Cesasre Ragazzi\, archivista e bibliotecario di Santa Romana Chiesa.
URL:https://www.basilicasantospirito.it/calendario/giovanni-cesare-pagazzi-il-quotidiano-rivela-santagostino-e-i-miracoli/
LOCATION:Sala Capitolare – Convento di Santo Spirito\, Piazza di Santo Spirito\, 30\, Firenze\, Italia
CATEGORIES:Conferenze Centro Studi Leone XIV
ATTACH;FMTTYPE=image/jpeg:https://www.basilicasantospirito.it/wp-content/uploads/2025/10/cq5dam.thumbnail.cropped.750.422.jpeg
END:VEVENT
END:VCALENDAR