BEGIN:VCALENDAR
VERSION:2.0
PRODID:-//Basilica di Santo Spirito - ECPv6.15.20//NONSGML v1.0//EN
CALSCALE:GREGORIAN
METHOD:PUBLISH
X-ORIGINAL-URL:https://www.basilicasantospirito.it
X-WR-CALDESC:Eventi per Basilica di Santo Spirito
REFRESH-INTERVAL;VALUE=DURATION:PT1H
X-Robots-Tag:noindex
X-PUBLISHED-TTL:PT1H
BEGIN:VTIMEZONE
TZID:Europe/Paris
BEGIN:DAYLIGHT
TZOFFSETFROM:+0100
TZOFFSETTO:+0200
TZNAME:CEST
DTSTART:20250330T010000
END:DAYLIGHT
BEGIN:STANDARD
TZOFFSETFROM:+0200
TZOFFSETTO:+0100
TZNAME:CET
DTSTART:20251026T010000
END:STANDARD
BEGIN:DAYLIGHT
TZOFFSETFROM:+0100
TZOFFSETTO:+0200
TZNAME:CEST
DTSTART:20260329T010000
END:DAYLIGHT
BEGIN:STANDARD
TZOFFSETFROM:+0200
TZOFFSETTO:+0100
TZNAME:CET
DTSTART:20261025T010000
END:STANDARD
BEGIN:DAYLIGHT
TZOFFSETFROM:+0100
TZOFFSETTO:+0200
TZNAME:CEST
DTSTART:20270328T010000
END:DAYLIGHT
BEGIN:STANDARD
TZOFFSETFROM:+0200
TZOFFSETTO:+0100
TZNAME:CET
DTSTART:20271031T010000
END:STANDARD
END:VTIMEZONE
BEGIN:VEVENT
DTSTART;TZID=Europe/Paris:20260313T090000
DTEND;TZID=Europe/Paris:20260313T170000
DTSTAMP:20260424T064311
CREATED:20260307T081425Z
LAST-MODIFIED:20260307T083550Z
UID:10869-1773392400-1773421200@www.basilicasantospirito.it
SUMMARY:Giornata di Preghiera e digiuno per la Pace nel mondo
DESCRIPTION:Accogliendo l’invito della Conferenza Episcopale Italiana\, la Comunità Agostiniana della Basilica di Santo Spirito partecipa alla Giornata di preghiera e digiuno per la pace indetta per venerdì 13 marzo 2026. \n\n\n\nI vescovi italiani hanno richiamato con forza la gravità dell’escalation di violenza in Medio Oriente\, che «rischia di trascinare l’umanità in una guerra di proporzioni planetarie\, una nuova inutile strage dalle conseguenze incalcolabili». Per questo la CEI invita tutte le comunità ecclesiali a unirsi in una supplica comune al Re della Pace\, affinché si interrompa la spirale di odio e distruzione e si apra un cammino di dialogo e di riconciliazione. \n\n\n\nLa Conferenza Episcopale ribadisce che la guerra non è e non può mai essere la risposta e che la logica della forza non può sostituirsi alla paziente opera della diplomazia e del dialogo tra i popoli. In questo tempo drammatico\, il grido delle vittime – i civili colpiti dai bombardamenti\, i profughi\, i feriti e le famiglie nel lutto – interpella direttamente la coscienza dei credenti e invita tutti a un impegno rinnovato nella costruzione di una pace «disarmata e disarmante». \n\n\n\nA Santo Spirito\, dopo la Messa delle ore 9.00\, sarà celebrata l’Eucaristia con una particolare intenzione di preghiera per la pace\, in comunione con tutta la Chiesa italiana. \n\n\n\nPreghiera di Papa Leone XIV per il disarmo e la pace\n\n\n\nA conclusione dell’annuncio della Giornata di preghiera e digiuno per la pace\, proponiamo la preghiera composta da Papa Leone XIV\, affidando al Signore l’invocazione per il disarmo e per la pace tra i popoli. \n\n\n\nPreghiera di Papa Leone XIV“Per il disarmo e la pace” – Marzo 2026 \n\n\n\nSignore della Vita\,che hai plasmato ogni essere umanoa tua immagine e somiglianza\,crediamo che tu ci abbia creatiper la comunione\,non per la guerra\,per la fraternità\,non per la distruzione. \n\n\n\nTu che hai salutato i tuoi discepoli dicendo:“La pace sia con voi”\,donaci la tua pacee la forza per renderla reale nella storia. \n\n\n\nOggi eleviamo la nostra supplicaper la pace nel mondo\,chiedendo che le nazioni rinuncino alle armie scelgano la via del dialogo e della diplomazia. \n\n\n\nDisarma i nostri cuori dall’odio\,dal rancore e dall’indifferenza\,perché possiamo diventare strumenti di riconciliazione. \n\n\n\nAiutaci a comprendere che la vera sicurezzanon nasce dal controllo alimentato dalla paura\,ma dalla fiducia\, dalla giustiziae dalla solidarietà tra i popoli. \n\n\n\nSignore\, illumina i leader delle nazioni\,affinché abbiano il coraggiodi abbandonare i progetti di morte\,fermare la corsa agli armamentie mettere al centro la vita dei più vulnerabili.Fa’ che la minaccia nuclearenon condizioni mai più il futuro dell’umanità. \n\n\n\nSpirito Santo\,rendici costruttori fedeli e creatividi pace quotidiana:nei nostri cuori\, nelle nostre famiglie\,nelle nostre comunità e nelle nostre città. \n\n\n\nChe ogni parola gentile\, ogni gesto di riconciliazionee ogni scelta di dialogo siano semi di un mondo nuovo. \n\n\n\nAmen. \n\n\n\n(Papa Leone XIV)
URL:https://www.basilicasantospirito.it/calendario/giornata-di-preghiera-e-digiuno-per-la-pace-nel-mondo/
CATEGORIES:Sante Messe
ATTACH;FMTTYPE=image/png:https://www.basilicasantospirito.it/wp-content/uploads/2026/03/giornata-pace-13-marzo.png
END:VEVENT
END:VCALENDAR