BEGIN:VCALENDAR
VERSION:2.0
PRODID:-//Basilica di Santo Spirito - ECPv6.15.20//NONSGML v1.0//EN
CALSCALE:GREGORIAN
METHOD:PUBLISH
X-WR-CALNAME:Basilica di Santo Spirito
X-ORIGINAL-URL:https://www.basilicasantospirito.it
X-WR-CALDESC:Eventi per Basilica di Santo Spirito
REFRESH-INTERVAL;VALUE=DURATION:PT1H
X-Robots-Tag:noindex
X-PUBLISHED-TTL:PT1H
BEGIN:VTIMEZONE
TZID:Europe/Paris
BEGIN:DAYLIGHT
TZOFFSETFROM:+0100
TZOFFSETTO:+0200
TZNAME:CEST
DTSTART:20250330T010000
END:DAYLIGHT
BEGIN:STANDARD
TZOFFSETFROM:+0200
TZOFFSETTO:+0100
TZNAME:CET
DTSTART:20251026T010000
END:STANDARD
BEGIN:DAYLIGHT
TZOFFSETFROM:+0100
TZOFFSETTO:+0200
TZNAME:CEST
DTSTART:20260329T010000
END:DAYLIGHT
BEGIN:STANDARD
TZOFFSETFROM:+0200
TZOFFSETTO:+0100
TZNAME:CET
DTSTART:20261025T010000
END:STANDARD
BEGIN:DAYLIGHT
TZOFFSETFROM:+0100
TZOFFSETTO:+0200
TZNAME:CEST
DTSTART:20270328T010000
END:DAYLIGHT
BEGIN:STANDARD
TZOFFSETFROM:+0200
TZOFFSETTO:+0100
TZNAME:CET
DTSTART:20271031T010000
END:STANDARD
END:VTIMEZONE
BEGIN:VEVENT
DTSTART;TZID=Europe/Paris:20260508T173000
DTEND;TZID=Europe/Paris:20260508T183000
DTSTAMP:20260424T080426
CREATED:20260224T093008Z
LAST-MODIFIED:20260416T054801Z
UID:10818-1778261400-1778265000@www.basilicasantospirito.it
SUMMARY:Presentazione del libro di Papa Leone XIV "Liberi sotto la Grazia"
DESCRIPTION:All’interno de I Convegni di Santo Spirito\, la Basilica di Santo Spirito ospita la presentazione ufficiale a Firenze del volume Liberi sotto la grazia di Robert Francis Prevost\, oggi Papa Leone XIV\, edito da Libreria Editrice Vaticana e promosso in collaborazione con la stessa: un appuntamento di alto rilievo spirituale e culturale in programma venerdì 8 maggio 2026\, alle ore 17.30\, presso la Sala Capitolare del Convento di Santo Spirito. Interverranno Paolo Ruffini\, Prefetto del Dicastero per la Comunicazione della Santa Sede\, Padre Giuseppe Pagano\, Priore della Basilica di Santo Spirito\, e Ugo De Vita\, autore e attore.
URL:https://www.basilicasantospirito.it/calendario/presentazione-del-libro-di-papa-leone-xiv/
CATEGORIES:Convegni di Santo Spirito,Umanesimo in Santo Spirito
END:VEVENT
END:VCALENDAR