BEGIN:VCALENDAR
VERSION:2.0
PRODID:-//Basilica di Santo Spirito - ECPv6.15.20//NONSGML v1.0//EN
CALSCALE:GREGORIAN
METHOD:PUBLISH
X-ORIGINAL-URL:https://www.basilicasantospirito.it
X-WR-CALDESC:Eventi per Basilica di Santo Spirito
REFRESH-INTERVAL;VALUE=DURATION:PT1H
X-Robots-Tag:noindex
X-PUBLISHED-TTL:PT1H
BEGIN:VTIMEZONE
TZID:UTC
BEGIN:STANDARD
TZOFFSETFROM:+0000
TZOFFSETTO:+0000
TZNAME:UTC
DTSTART:20180101T000000
END:STANDARD
END:VTIMEZONE
BEGIN:VEVENT
DTSTART;TZID=UTC:20191206T180000
DTEND;TZID=UTC:20191206T190000
DTSTAMP:20260423T135910
CREATED:20191129T111853Z
LAST-MODIFIED:20191129T111855Z
UID:3365-1575655200-1575658800@www.basilicasantospirito.it
SUMMARY:Lectio Divina sull'Annunciazione di Pietro Donzello
DESCRIPTION:Venerdì 6 dicembre alle ore 18\,00 subito dopo i vespri\, ci sarà una Lectio divina di fronte alla magnifica pala dell’Annunciazione di Pietro Donzello (posta nel capocroce della Basilica) tenuta dal priore Padre Giuseppe Pagano per la parte spirituale e dal prof. Giovanni Cipriani per la parte storico-artistica.
URL:https://www.basilicasantospirito.it/calendario/lectio-divina-sullannunciazione-di-pietro-donzello/
CATEGORIES:Conferenze
ATTACH;FMTTYPE=image/jpeg:https://www.basilicasantospirito.it/wp-content/uploads/2019/11/cipriani-lectio-donzello-1.jpg
END:VEVENT
END:VCALENDAR