BEGIN:VCALENDAR
VERSION:2.0
PRODID:-//Basilica di Santo Spirito - ECPv6.15.20//NONSGML v1.0//EN
CALSCALE:GREGORIAN
METHOD:PUBLISH
X-WR-CALNAME:Basilica di Santo Spirito
X-ORIGINAL-URL:https://www.basilicasantospirito.it
X-WR-CALDESC:Eventi per Basilica di Santo Spirito
REFRESH-INTERVAL;VALUE=DURATION:PT1H
X-Robots-Tag:noindex
X-PUBLISHED-TTL:PT1H
BEGIN:VTIMEZONE
TZID:Europe/Paris
BEGIN:DAYLIGHT
TZOFFSETFROM:+0100
TZOFFSETTO:+0200
TZNAME:CEST
DTSTART:20240331T010000
END:DAYLIGHT
BEGIN:STANDARD
TZOFFSETFROM:+0200
TZOFFSETTO:+0100
TZNAME:CET
DTSTART:20241027T010000
END:STANDARD
BEGIN:DAYLIGHT
TZOFFSETFROM:+0100
TZOFFSETTO:+0200
TZNAME:CEST
DTSTART:20250330T010000
END:DAYLIGHT
BEGIN:STANDARD
TZOFFSETFROM:+0200
TZOFFSETTO:+0100
TZNAME:CET
DTSTART:20251026T010000
END:STANDARD
BEGIN:DAYLIGHT
TZOFFSETFROM:+0100
TZOFFSETTO:+0200
TZNAME:CEST
DTSTART:20260329T010000
END:DAYLIGHT
BEGIN:STANDARD
TZOFFSETFROM:+0200
TZOFFSETTO:+0100
TZNAME:CET
DTSTART:20261025T010000
END:STANDARD
BEGIN:DAYLIGHT
TZOFFSETFROM:+0100
TZOFFSETTO:+0200
TZNAME:CEST
DTSTART:20270328T010000
END:DAYLIGHT
BEGIN:STANDARD
TZOFFSETFROM:+0200
TZOFFSETTO:+0100
TZNAME:CET
DTSTART:20271031T010000
END:STANDARD
END:VTIMEZONE
BEGIN:VEVENT
DTSTART;TZID=Europe/Paris:20251023T173000
DTEND;TZID=Europe/Paris:20251023T183000
DTSTAMP:20260425T142825
CREATED:20251023T092203Z
LAST-MODIFIED:20251023T095912Z
UID:8368-1761240600-1761244200@www.basilicasantospirito.it
SUMMARY:Giovanni Cipriani\, "Michelangelo e Santo Spirito. La Firenze di Piero dei Medici e Savonarola"
DESCRIPTION:Primo appuntamento dei Convegni di Santo Spirito 2025 “L’anima del Genio: 25 anni del Crocifisso di Michelangelo a Santo Spirito” con la conferenza del Prof. Giovanni Cipriani\, docente di Storia moderna all’Università di Firenze\, moderato da Jacopo Paganelli.
URL:https://www.basilicasantospirito.it/calendario/giovanni-cipriani-michelangelo-e-santo-spirito-la-firenze-di-piero-dei-medici-e-savonarola/
LOCATION:Sala Capitolare – Convento di Santo Spirito\, Piazza di Santo Spirito\, 30\, Firenze\, Italia
CATEGORIES:Convegni di Santo Spirito,L’anima del Genio: 25 anni del Crocifisso di Michelangelo a Santo Spirito
ATTACH;FMTTYPE=image/jpeg:https://www.basilicasantospirito.it/wp-content/uploads/2025/10/convegni-2-parte.jpg
END:VEVENT
BEGIN:VEVENT
DTSTART;TZID=Europe/Paris:20251106T173000
DTEND;TZID=Europe/Paris:20251106T183000
DTSTAMP:20260425T142825
CREATED:20251023T102215Z
LAST-MODIFIED:20251031T094218Z
UID:8389-1762450200-1762453800@www.basilicasantospirito.it
SUMMARY:Giovanni Cesare Pagazzi\, "Il quotidiano rivela. Sant'Agostino e i miracoli"
DESCRIPTION:Prima conferenza nell’ambito  del primo ciclo di conferenze del Centro Studi Internazionale Papa Leone XIV\, dedicato alla figura e al pensiero di Sant’Agostino. Relatore Giovanni Cesasre Ragazzi\, archivista e bibliotecario di Santa Romana Chiesa.
URL:https://www.basilicasantospirito.it/calendario/giovanni-cesare-pagazzi-il-quotidiano-rivela-santagostino-e-i-miracoli/
LOCATION:Sala Capitolare – Convento di Santo Spirito\, Piazza di Santo Spirito\, 30\, Firenze\, Italia
CATEGORIES:Conferenze Centro Studi Leone XIV
ATTACH;FMTTYPE=image/jpeg:https://www.basilicasantospirito.it/wp-content/uploads/2025/10/cq5dam.thumbnail.cropped.750.422.jpeg
END:VEVENT
BEGIN:VEVENT
DTSTART;TZID=Europe/Paris:20251111T173000
DTEND;TZID=Europe/Paris:20251111T183000
DTSTAMP:20260425T142825
CREATED:20251023T100142Z
LAST-MODIFIED:20251023T100145Z
UID:8376-1762882200-1762885800@www.basilicasantospirito.it
SUMMARY:Marco Passeri\, "L'altar maggiore di Santo Spirito: un'opera filomedicea nella Firenze di inizio Seicento"
DESCRIPTION:Secondo appuntamento dei Convegni di Santo Spirito 2025 “L’anima del Genio: 25 anni del Crocifisso di Michelangelo a Santo Spirito” con la conferenza di Marco Passeri.
URL:https://www.basilicasantospirito.it/calendario/marco-passeri-laltar-maggiore-di-santo-spirito-unopera-filomedicea-nella-firenze-di-inizio-seicento/
LOCATION:Sala Capitolare – Convento di Santo Spirito\, Piazza di Santo Spirito\, 30\, Firenze\, Italia
CATEGORIES:Convegni di Santo Spirito,L’anima del Genio: 25 anni del Crocifisso di Michelangelo a Santo Spirito
ATTACH;FMTTYPE=image/jpeg:https://www.basilicasantospirito.it/wp-content/uploads/2025/10/convegni-2-parte.jpg
END:VEVENT
BEGIN:VEVENT
DTSTART;TZID=Europe/Paris:20251121T170000
DTEND;TZID=Europe/Paris:20251121T180000
DTSTAMP:20260425T142825
CREATED:20251104T115413Z
LAST-MODIFIED:20251104T115509Z
UID:8446-1763744400-1763748000@www.basilicasantospirito.it
SUMMARY:Presentazione del libro "Leone XIV. Chi dite che io sia? Sono un figlio di Agostino"
DESCRIPTION:Presentazione del libro “Leone XIV. Chi dite che io sia? Sono un figlio di Agostino” di Ignazio Ingrao e Padre Giuseppe Pagano\, Priore di Santo Spirito. Un ritratto umano e spirituale di Papa Leone XIV nato da anni di vita condivisa. A seguire\, concerto diretto dal M° Edoardo Materassi dedicato al Crocifisso di Michelangelo.
URL:https://www.basilicasantospirito.it/calendario/presentazione-del-libro-leone-xiv-chi-dite-che-io-sia-sono-un-figlio-di-agostino/
LOCATION:Basilica di Santo Spirito\, Piazza Santo Spirito 30\, Firenze\, 50125
ATTACH;FMTTYPE=image/jpeg:https://www.basilicasantospirito.it/wp-content/uploads/2025/11/presentazione-libro-padre-giuseppe-pagano-a-santo-spirito.jpg
END:VEVENT
BEGIN:VEVENT
DTSTART;TZID=Europe/Paris:20251121T183000
DTEND;TZID=Europe/Paris:20251121T193000
DTSTAMP:20260425T142825
CREATED:20251023T100339Z
LAST-MODIFIED:20251023T100411Z
UID:8379-1763749800-1763753400@www.basilicasantospirito.it
SUMMARY:"Michelangelo\, il crocifisso e il canto"\, concerto diretto dal Maestro Edoardo Materassi
DESCRIPTION:Terzo appuntamento dei Convegni di Santo Spirito 2025 “L’anima del Genio: 25 anni del Crocifisso di Michelangelo a Santo Spirito” con il concerto dedicato al Crocifisso di Michelangelo diretto dal Maestreo Edoardo Materassi.
URL:https://www.basilicasantospirito.it/calendario/michelangelo-il-crocifisso-e-il-canto-concerto-diretto-dal-maestro-edoardo-materassi/
LOCATION:Sala Capitolare – Convento di Santo Spirito\, Piazza di Santo Spirito\, 30\, Firenze\, Italia
CATEGORIES:Concerto,L’anima del Genio: 25 anni del Crocifisso di Michelangelo a Santo Spirito
ATTACH;FMTTYPE=image/jpeg:https://www.basilicasantospirito.it/wp-content/uploads/2025/10/convegni-2-parte.jpg
END:VEVENT
BEGIN:VEVENT
DTSTART;TZID=Europe/Paris:20251202T173000
DTEND;TZID=Europe/Paris:20251202T183000
DTSTAMP:20260425T142825
CREATED:20251023T100655Z
LAST-MODIFIED:20251023T100659Z
UID:8381-1764696600-1764700200@www.basilicasantospirito.it
SUMMARY:Enrico Sartoni\, "Il luogo e l'opera. Storia e storiografia del Crocifisso di Michelangelo a 25 anni dalla ricollocazione"
DESCRIPTION:Quarto appuntamento dei Convegni di Santo Spirito 2025 “L’anima del Genio: 25 anni del Crocifisso di Michelangelo a Santo Spirito” con la conferenza di Enrico Sartoni.
URL:https://www.basilicasantospirito.it/calendario/enrico-sartoni-il-luogo-e-lopera-storia-e-storiografia-del-crocifisso-di-michelangelo-a-25-anni-dalla-ricollocazione/
LOCATION:Sala Capitolare – Convento di Santo Spirito\, Piazza di Santo Spirito\, 30\, Firenze\, Italia
CATEGORIES:Convegni di Santo Spirito,L’anima del Genio: 25 anni del Crocifisso di Michelangelo a Santo Spirito
ATTACH;FMTTYPE=image/jpeg:https://www.basilicasantospirito.it/wp-content/uploads/2025/10/convegni-2-parte.jpg
END:VEVENT
BEGIN:VEVENT
DTSTART;TZID=Europe/Paris:20251208T103000
DTEND;TZID=Europe/Paris:20251208T113000
DTSTAMP:20260425T142825
CREATED:20251023T101136Z
LAST-MODIFIED:20251023T102341Z
UID:8383-1765189800-1765193400@www.basilicasantospirito.it
SUMMARY:Inaugurazione del Presepe di Santo Spirito
DESCRIPTION:Inaugurazione del Presepe nella Basilica di Santo Spirito
URL:https://www.basilicasantospirito.it/calendario/inaugurazione-del-presepe-di-santo-spirito/
LOCATION:Basilica di Santo Spirito\, Piazza Santo Spirito 30\, Firenze\, 50125
CATEGORIES:Eventi
ATTACH;FMTTYPE=image/jpeg:https://www.basilicasantospirito.it/wp-content/uploads/2025/10/santo-spirito-large.jpeg
END:VEVENT
BEGIN:VEVENT
DTSTART;TZID=Europe/Paris:20251211T183000
DTEND;TZID=Europe/Paris:20251211T193000
DTSTAMP:20260425T142825
CREATED:20251023T101345Z
LAST-MODIFIED:20251023T102338Z
UID:8385-1765477800-1765481400@www.basilicasantospirito.it
SUMMARY:Concerto di Natale
DESCRIPTION:Concerto di Natale in Santo Spirito\, sponsorizzato da Banca Generali
URL:https://www.basilicasantospirito.it/calendario/concerto-di-natale/
LOCATION:Basilica di Santo Spirito\, Piazza Santo Spirito 30\, Firenze\, 50125
CATEGORIES:Concerto
ATTACH;FMTTYPE=image/png:https://www.basilicasantospirito.it/wp-content/uploads/2020/03/testata_new_santospirito.png
END:VEVENT
BEGIN:VEVENT
DTSTART;TZID=Europe/Paris:20251221T103000
DTEND;TZID=Europe/Paris:20251221T113000
DTSTAMP:20260425T142825
CREATED:20251023T101618Z
LAST-MODIFIED:20251023T101622Z
UID:8387-1766313000-1766316600@www.basilicasantospirito.it
SUMMARY:Santa Messa presieduta da Mons. Erio Castellucci
DESCRIPTION:Santa Messa conclusiva dei Convegni di Santo Spirito 2025 dedicati al 25° anniversario del ritorno del Crocifisso di Michelangelo\, presideduta da Mons. Erio Castellucci\, Arcivescovo Abate di Modena – Nonantola\, Vescovo di Carpi\, Vice Presidente della Conferenza Episcopale Italiana
URL:https://www.basilicasantospirito.it/calendario/santa-messa-presieduta-da-mons-erio-castellucci/
LOCATION:Basilica di Santo Spirito\, Piazza Santo Spirito 30\, Firenze\, 50125
CATEGORIES:Convegni di Santo Spirito,L’anima del Genio: 25 anni del Crocifisso di Michelangelo a Santo Spirito,Sante Messe
ATTACH;FMTTYPE=image/jpeg:https://www.basilicasantospirito.it/wp-content/uploads/2025/10/convegni-2-parte.jpg
END:VEVENT
BEGIN:VEVENT
DTSTART;TZID=Europe/Paris:20260202T083000
DTEND;TZID=Europe/Paris:20260202T180000
DTSTAMP:20260425T142825
CREATED:20260127T111304Z
LAST-MODIFIED:20260127T111312Z
UID:10520-1770021000-1770055200@www.basilicasantospirito.it
SUMMARY:Festa della presentazione di Gesù Bambino al Tempio (Candelora)
DESCRIPTION:Ore 8.30 Preghiera delle Lodi\n\n\n\nOre 9.00 Santa Messa con benedizione delle candele\n\n\n\nOre 16.30 Santo Rosario\n\n\n\nOre 17.00 Santa Messa con benedizione delle candele
URL:https://www.basilicasantospirito.it/calendario/festa-della-presentazione-di-gesu-bambino-al-tempio-candelora/
LOCATION:Basilica di Santo Spirito\, Piazza Santo Spirito 30\, Firenze\, 50125
CATEGORIES:Celebrazioni,Festività religiose
END:VEVENT
BEGIN:VEVENT
DTSTART;TZID=Europe/Paris:20260203T083000
DTEND;TZID=Europe/Paris:20260203T100000
DTSTAMP:20260425T142825
CREATED:20260127T111820Z
LAST-MODIFIED:20260127T111824Z
UID:10529-1770107400-1770112800@www.basilicasantospirito.it
SUMMARY:Festa di San Biagio
DESCRIPTION:Il programma della giornata: \n\n\n\n\nOre 8.30 Preghiera delle lodi\n\n\n\nOre 9.00 Santa Messa con benedizione della gola
URL:https://www.basilicasantospirito.it/calendario/festa-di-san-biagio/
CATEGORIES:Celebrazioni
END:VEVENT
BEGIN:VEVENT
DTSTART;TZID=Europe/Paris:20260211T083000
DTEND;TZID=Europe/Paris:20260211T110000
DTSTAMP:20260425T142825
CREATED:20260127T112038Z
LAST-MODIFIED:20260127T113752Z
UID:10531-1770798600-1770807600@www.basilicasantospirito.it
SUMMARY:Festa Madonna di Lourdes e Giornata del malato (con benedizione del busto di P. Leone XIV)
DESCRIPTION:Ore 8.30 Preghiera delle lodi\n\n\n\nOre 9.00 Santa Messa con somministrazione dell’Unzione degli infermi\n\n\n\nOre 10.00 Benedizione del busto di Papa Leone XIV (realizzato daCarlo Ciucchi Picchio e donato da Piera Drera) e collocazionenel chiostro
URL:https://www.basilicasantospirito.it/calendario/festa-madonna-di-lourdes-e-giornata-del-malato-con-benedizione-del-busto-di-p-leone-xiv/
CATEGORIES:Celebrazioni,Festività religiose
ATTACH;FMTTYPE=image/jpeg:https://www.basilicasantospirito.it/wp-content/uploads/2026/01/Leone-XIV.jpg
END:VEVENT
BEGIN:VEVENT
DTSTART;TZID=Europe/Paris:20260212T083000
DTEND;TZID=Europe/Paris:20260212T180000
DTSTAMP:20260425T142825
CREATED:20260207T163654Z
LAST-MODIFIED:20260207T163657Z
UID:10567-1770885000-1770919200@www.basilicasantospirito.it
SUMMARY:Inizio pia pratica dei 15 Giovedì di Santa Rita
DESCRIPTION:Giovedì 12 febbraio 2026\, alla Basilica di Santo Spirito prende avvio la pia pratica dei Quindici Giovedì di Santa Rita\, in preparazione alla festa della Santa del 22 maggio.Un cammino di preghiera che ricorda i quindici anni durante i quali Santa Rita portò sulla fronte la ferita della spina del Crocifisso\, segno della sua profonda unione con Cristo. \n\n\n\nProgramma della giornata• Ore 8.30 – Canto delle Lodi• Ore 9.00 – Santa Messa con preghiera a Santa Rita• Ore 16.30 – Santo Rosario• Ore 17.00 – Santa Messa con preghiera a Santa Rita
URL:https://www.basilicasantospirito.it/calendario/inizio-pia-pratica-dei-15-giovedi-di-santa-rita/
CATEGORIES:Celebrazioni
ATTACH;FMTTYPE=image/jpeg:https://www.basilicasantospirito.it/wp-content/uploads/2026/02/Giovedi-santa-rita-2026.jpg
END:VEVENT
BEGIN:VEVENT
DTSTART;TZID=Europe/Paris:20260216T173000
DTEND;TZID=Europe/Paris:20260216T190000
DTSTAMP:20260425T142825
CREATED:20260207T162718Z
LAST-MODIFIED:20260207T162759Z
UID:10565-1771263000-1771268400@www.basilicasantospirito.it
SUMMARY:Presentazione del libro di Daphne Grieco sul Beato Simone Fidati
DESCRIPTION:Lunedì 16 febbraio\, alle ore 17.30\, presso la Sala Capitolare del Convento di Santo Spirito\, FIRENZE\, si terrà la presentazione del volume di Daphne Grieco “Simone Fidati e le sue ‘figliuole in Cristo’ tra Ordine della vita cristiana\, Spositione sopra de’ Vangeli e un inedito testo in volgare”\, con gli interventi di Isabella Gagliardi e Francesco Salvestrini.Ingresso libero fino a esaurimento posti.
URL:https://www.basilicasantospirito.it/calendario/presentazione-del-libro-di-daphne-grieco-sul-beato-simone-fidati/
LOCATION:Sala Capitolare – Convento di Santo Spirito\, Piazza di Santo Spirito\, 30\, Firenze\, Italia
CATEGORIES:Eventi
ATTACH;FMTTYPE=image/jpeg:https://www.basilicasantospirito.it/wp-content/uploads/2026/02/16-febbraio-presentazione-libro-fidati-724x1024-1.jpg
END:VEVENT
BEGIN:VEVENT
DTSTART;TZID=Europe/Paris:20260222T160000
DTEND;TZID=Europe/Paris:20260222T180000
DTSTAMP:20260425T142825
CREATED:20260213T155154Z
LAST-MODIFIED:20260216T061758Z
UID:10741-1771776000-1771783200@www.basilicasantospirito.it
SUMMARY:Noi Fummo – Vite illustri e meno illustri dal Chiostro dei Morti
DESCRIPTION:Nell’ambito della rassegna “Voci dell’Umanesimo a Santo Spirito”\, inserita nei Convegni 2026 promossi dalla Comunità Agostiniana di Santo Spirito\, la Compagnia delle Seggiole presenta “Noi fummo”\, letture itineranti nel Chiostro di Santo Spirito. Doppio appuntamento alle ore 16 ed alle ore 17.
URL:https://www.basilicasantospirito.it/calendario/noi-fummo-vite-illustri-e-meno-illustri-dal-chiostro-dei-morti/
CATEGORIES:Eventi
ATTACH;FMTTYPE=image/jpeg:https://www.basilicasantospirito.it/wp-content/uploads/2026/02/voci-umanesimo-noi-fummo.jpg
END:VEVENT
BEGIN:VEVENT
DTSTART;TZID=Europe/Paris:20260224T080000
DTEND;TZID=Europe/Paris:20260224T170000
DTSTAMP:20260425T142825
CREATED:20260224T084633Z
LAST-MODIFIED:20260224T084636Z
UID:10796-1771920000-1771952400@www.basilicasantospirito.it
SUMMARY:Conferenza stampa di presentazione del restauro dell'Organo di Santo Spirito
DESCRIPTION:Nel contesto delle iniziative collegate ai Convegni di Santo Spirito\, si terrà la conferenza stampa di presentazione del restauro dell’organo\, testimonianza significativa del patrimonio artistico e musicale del complesso conventuale.
URL:https://www.basilicasantospirito.it/calendario/conferenza-stampa-di-presentazione-del-restauro-dellorgano-di-santo-spirito/
CATEGORIES:Convegni di Santo Spirito,Umanesimo in Santo Spirito
END:VEVENT
BEGIN:VEVENT
DTSTART;TZID=Europe/Paris:20260226T173000
DTEND;TZID=Europe/Paris:20260226T183000
DTSTAMP:20260425T142825
CREATED:20251023T102557Z
LAST-MODIFIED:20260112T114133Z
UID:8397-1772127000-1772130600@www.basilicasantospirito.it
SUMMARY:Padre Giuseppe Caruso\, "Agostino e la Pace"
DESCRIPTION:Seconda conferenza nell’ambito del primo ciclo di conferenze del Centro Studi Internazionale Papa Leone XIV\, dedicato alla figura e al pensiero di Sant’Agostino. Relatore Padre Giuseppe Caruso\, Priore del Convento di Sant’Agostino in Palermo.
URL:https://www.basilicasantospirito.it/calendario/padre-giuseppe-caruso-agostino-e-la-pace/
LOCATION:Sala Capitolare – Convento di Santo Spirito\, Piazza di Santo Spirito\, 30\, Firenze\, Italia
CATEGORIES:Conferenze Centro Studi Leone XIV
ATTACH;FMTTYPE=image/jpeg:https://www.basilicasantospirito.it/wp-content/uploads/2025/10/conferenza-26-febbraio-717x1024-1.jpg
END:VEVENT
BEGIN:VEVENT
DTSTART;TZID=Europe/Paris:20260301T160000
DTEND;TZID=Europe/Paris:20260301T180000
DTSTAMP:20260425T142825
CREATED:20260213T163150Z
LAST-MODIFIED:20260216T061740Z
UID:10747-1772380800-1772388000@www.basilicasantospirito.it
SUMMARY:… che nel mondo non se ne trova una simile … Le storie di Santo Spirito\, chiesa tra le chiese
DESCRIPTION:A grande richiesta\, dopo i sold out degli anni passati\, torna il viaggio teatrale nella Basilica di Santo Spirito. Guidati idealmente da Brunelleschi\, Michelangelo e Martin Lutero\, gli spettatori attraversano uno dei capolavori del Rinascimento fiorentino\, nel cuore della rassegna “Voci dell’Umanesimo a Santo Spirito”. Doppio appuntamento alle ore 16 ed alle ore 17.
URL:https://www.basilicasantospirito.it/calendario/che-nel-mondo-non-se-ne-trova-una-simile-le-storie-di-santo-spirito-chiesa-tra-le-chiese/
CATEGORIES:Eventi
ATTACH;FMTTYPE=image/jpeg:https://www.basilicasantospirito.it/wp-content/uploads/2026/02/voci-umanesimo-che-nel-mondo.jpg
END:VEVENT
BEGIN:VEVENT
DTSTART;TZID=Europe/Paris:20260305T173000
DTEND;TZID=Europe/Paris:20260305T183000
DTSTAMP:20260425T142825
CREATED:20260224T084052Z
LAST-MODIFIED:20260224T084101Z
UID:10790-1772731800-1772735400@www.basilicasantospirito.it
SUMMARY:Luca Mazzinghi\, "L’idea dell’umano nel libro dei Proverbi"
DESCRIPTION:Nell’ambito de I Convegni di Santo Spirito 2026\, dedicati al tema dell’Umanesimo\, il teologo e biblista Luca Mazzinghi inaugura il ciclo di incontri con una conferenza dal titolo L’idea dell’umano nel libro dei Proverbi\, dedicata ai fondamenti biblici della visione dell’uomo nella tradizione sapienziale.
URL:https://www.basilicasantospirito.it/calendario/luca-mazzinghi-lidea-dellumano-nel-libro-dei-proverbi/
CATEGORIES:Convegni di Santo Spirito,Umanesimo in Santo Spirito
END:VEVENT
BEGIN:VEVENT
DTSTART;TZID=Europe/Paris:20260313T090000
DTEND;TZID=Europe/Paris:20260313T170000
DTSTAMP:20260425T142825
CREATED:20260307T081425Z
LAST-MODIFIED:20260307T083550Z
UID:10869-1773392400-1773421200@www.basilicasantospirito.it
SUMMARY:Giornata di Preghiera e digiuno per la Pace nel mondo
DESCRIPTION:Accogliendo l’invito della Conferenza Episcopale Italiana\, la Comunità Agostiniana della Basilica di Santo Spirito partecipa alla Giornata di preghiera e digiuno per la pace indetta per venerdì 13 marzo 2026. \n\n\n\nI vescovi italiani hanno richiamato con forza la gravità dell’escalation di violenza in Medio Oriente\, che «rischia di trascinare l’umanità in una guerra di proporzioni planetarie\, una nuova inutile strage dalle conseguenze incalcolabili». Per questo la CEI invita tutte le comunità ecclesiali a unirsi in una supplica comune al Re della Pace\, affinché si interrompa la spirale di odio e distruzione e si apra un cammino di dialogo e di riconciliazione. \n\n\n\nLa Conferenza Episcopale ribadisce che la guerra non è e non può mai essere la risposta e che la logica della forza non può sostituirsi alla paziente opera della diplomazia e del dialogo tra i popoli. In questo tempo drammatico\, il grido delle vittime – i civili colpiti dai bombardamenti\, i profughi\, i feriti e le famiglie nel lutto – interpella direttamente la coscienza dei credenti e invita tutti a un impegno rinnovato nella costruzione di una pace «disarmata e disarmante». \n\n\n\nA Santo Spirito\, dopo la Messa delle ore 9.00\, sarà celebrata l’Eucaristia con una particolare intenzione di preghiera per la pace\, in comunione con tutta la Chiesa italiana. \n\n\n\nPreghiera di Papa Leone XIV per il disarmo e la pace\n\n\n\nA conclusione dell’annuncio della Giornata di preghiera e digiuno per la pace\, proponiamo la preghiera composta da Papa Leone XIV\, affidando al Signore l’invocazione per il disarmo e per la pace tra i popoli. \n\n\n\nPreghiera di Papa Leone XIV“Per il disarmo e la pace” – Marzo 2026 \n\n\n\nSignore della Vita\,che hai plasmato ogni essere umanoa tua immagine e somiglianza\,crediamo che tu ci abbia creatiper la comunione\,non per la guerra\,per la fraternità\,non per la distruzione. \n\n\n\nTu che hai salutato i tuoi discepoli dicendo:“La pace sia con voi”\,donaci la tua pacee la forza per renderla reale nella storia. \n\n\n\nOggi eleviamo la nostra supplicaper la pace nel mondo\,chiedendo che le nazioni rinuncino alle armie scelgano la via del dialogo e della diplomazia. \n\n\n\nDisarma i nostri cuori dall’odio\,dal rancore e dall’indifferenza\,perché possiamo diventare strumenti di riconciliazione. \n\n\n\nAiutaci a comprendere che la vera sicurezzanon nasce dal controllo alimentato dalla paura\,ma dalla fiducia\, dalla giustiziae dalla solidarietà tra i popoli. \n\n\n\nSignore\, illumina i leader delle nazioni\,affinché abbiano il coraggiodi abbandonare i progetti di morte\,fermare la corsa agli armamentie mettere al centro la vita dei più vulnerabili.Fa’ che la minaccia nuclearenon condizioni mai più il futuro dell’umanità. \n\n\n\nSpirito Santo\,rendici costruttori fedeli e creatividi pace quotidiana:nei nostri cuori\, nelle nostre famiglie\,nelle nostre comunità e nelle nostre città. \n\n\n\nChe ogni parola gentile\, ogni gesto di riconciliazionee ogni scelta di dialogo siano semi di un mondo nuovo. \n\n\n\nAmen. \n\n\n\n(Papa Leone XIV)
URL:https://www.basilicasantospirito.it/calendario/giornata-di-preghiera-e-digiuno-per-la-pace-nel-mondo/
CATEGORIES:Sante Messe
ATTACH;FMTTYPE=image/png:https://www.basilicasantospirito.it/wp-content/uploads/2026/03/giornata-pace-13-marzo.png
END:VEVENT
BEGIN:VEVENT
DTSTART;TZID=Europe/Paris:20260320T173000
DTEND;TZID=Europe/Paris:20260320T183000
DTSTAMP:20260425T142825
CREATED:20260224T084340Z
LAST-MODIFIED:20260224T084344Z
UID:10792-1774027800-1774031400@www.basilicasantospirito.it
SUMMARY:Gli Agostiniani in Valdelsa fra medioevo e prima età moderna
DESCRIPTION:Nel quadro de I Convegni di Santo Spirito\, la presentazione del volume Gli Agostiniani in Valdelsa fra medioevo e prima età moderna\, a cura di Jacopo Paganelli e Francesco Salvestrini\, offre un approfondimento storico sul ruolo dell’Ordine agostiniano nello sviluppo culturale e religioso del territorio. Modera Rocco Ronzani.
URL:https://www.basilicasantospirito.it/calendario/gli-agostiniani-in-valdelsa-fra-medioevo-e-prima-eta-moderna/
CATEGORIES:Convegni di Santo Spirito,Umanesimo in Santo Spirito
END:VEVENT
BEGIN:VEVENT
DTSTART;TZID=Europe/Paris:20260322T160000
DTEND;TZID=Europe/Paris:20260322T180000
DTSTAMP:20260425T142825
CREATED:20260213T163650Z
LAST-MODIFIED:20260224T102021Z
UID:10751-1774195200-1774202400@www.basilicasantospirito.it
SUMMARY:Inseguire l’invisibile – Conversazione (in)credibile con Michelangelo Buonarroti
DESCRIPTION:In occasione dei 60 anni dalla riscoperta del Crocifisso ligneo attribuito al giovane Michelangelo\, la Sagrestia di Santo Spirito diventa teatro di un dialogo immaginario tra l’artista e un uomo contemporaneo. Inseguire l’invisibile è una riflessione teatrale sul mistero della creazione\, sul corpo e sul senso del trascendente\, all’interno della rassegna “Voci dell’Umanesimo a Santo Spirito”.
URL:https://www.basilicasantospirito.it/calendario/inseguire-linvisibile-conversazione-incredibile-con-michelangelo-buonarroti-2/
CATEGORIES:Umanesimo in Santo Spirito
ATTACH;FMTTYPE=image/jpeg:https://www.basilicasantospirito.it/wp-content/uploads/2026/02/voci-umanesimo-inseguire.jpg
END:VEVENT
BEGIN:VEVENT
DTSTART;TZID=Europe/Paris:20260327T090000
DTEND;TZID=Europe/Paris:20260327T180000
DTSTAMP:20260425T142825
CREATED:20260326T163639Z
LAST-MODIFIED:20260326T163646Z
UID:10889-1774602000-1774634400@www.basilicasantospirito.it
SUMMARY:Domenica delle Palme
DESCRIPTION:Sante Messe ore 9.00 – 10.30 – 18.00
URL:https://www.basilicasantospirito.it/calendario/domenica-delle-palme/
CATEGORIES:Celebrazioni
END:VEVENT
BEGIN:VEVENT
DTSTART;TZID=Europe/Paris:20260402T180000
DTEND;TZID=Europe/Paris:20260402T193000
DTSTAMP:20260425T142825
CREATED:20260326T163744Z
LAST-MODIFIED:20260326T163747Z
UID:10892-1775152800-1775158200@www.basilicasantospirito.it
SUMMARY:In Coena Domini
DESCRIPTION:Ore 18.00 – Celebrazione In Coena Domini
URL:https://www.basilicasantospirito.it/calendario/in-coena-domini/
CATEGORIES:Celebrazioni
END:VEVENT
BEGIN:VEVENT
DTSTART;TZID=Europe/Paris:20260403T180000
DTEND;TZID=Europe/Paris:20260403T190000
DTSTAMP:20260425T142825
CREATED:20260326T163845Z
LAST-MODIFIED:20260326T163848Z
UID:10894-1775239200-1775242800@www.basilicasantospirito.it
SUMMARY:Celebrazione della Passione del Signore
DESCRIPTION:Ore 18.00 – Celebrazione della Passione del Signore
URL:https://www.basilicasantospirito.it/calendario/celebrazione-della-passione-del-signore/
CATEGORIES:Celebrazioni
END:VEVENT
BEGIN:VEVENT
DTSTART;TZID=Europe/Paris:20260404T210000
DTEND;TZID=Europe/Paris:20260404T233000
DTSTAMP:20260425T142825
CREATED:20260326T163937Z
LAST-MODIFIED:20260326T163941Z
UID:10896-1775336400-1775345400@www.basilicasantospirito.it
SUMMARY:Veglia Pasquale
DESCRIPTION:Veglia Pasquale
URL:https://www.basilicasantospirito.it/calendario/veglia-pasquale/
CATEGORIES:Celebrazioni
END:VEVENT
BEGIN:VEVENT
DTSTART;TZID=Europe/Paris:20260405T090000
DTEND;TZID=Europe/Paris:20260405T200000
DTSTAMP:20260425T142825
CREATED:20260326T164028Z
LAST-MODIFIED:20260326T164031Z
UID:10898-1775379600-1775419200@www.basilicasantospirito.it
SUMMARY:Pasqua di Resurrezione
DESCRIPTION:Sante Messe ore 9.00 – 10.30 – 18.00
URL:https://www.basilicasantospirito.it/calendario/pasqua-di-resurrezione/
CATEGORIES:Celebrazioni
END:VEVENT
BEGIN:VEVENT
DTSTART;TZID=Europe/Paris:20260414T173000
DTEND;TZID=Europe/Paris:20260414T183000
DTSTAMP:20260425T142825
CREATED:20260224T084537Z
LAST-MODIFIED:20260409T103011Z
UID:10794-1776187800-1776191400@www.basilicasantospirito.it
SUMMARY:Andrea Mori\, "Luigi Marsili\, gli ordini religiosi ed i fermenti dell’Umanesimo"
DESCRIPTION:All’interno de I Convegni di Santo Spirito 2026\, Andrea Mori propone una riflessione su Luigi Marsili\, gli ordini religiosi ed i fermenti dell’Umanesimo\, ripercorrendo la figura del frate agostiniano che promosse nel Trecento i celebri colloqui culturali all’origine della tradizione umanistica fiorentina.
URL:https://www.basilicasantospirito.it/calendario/andrea-mori-luigi-marsili-gli-ordini-religiosi-ed-i-fermenti-dellumanesimo/
CATEGORIES:Convegni di Santo Spirito,Umanesimo in Santo Spirito
ATTACH;FMTTYPE=image/jpeg:https://www.basilicasantospirito.it/wp-content/uploads/2026/02/14-aprile.jpg
END:VEVENT
BEGIN:VEVENT
DTSTART;TZID=Europe/Paris:20260424T083000
DTEND;TZID=Europe/Paris:20260424T200000
DTSTAMP:20260425T142825
CREATED:20260224T084846Z
LAST-MODIFIED:20260224T084850Z
UID:10798-1777019400-1777060800@www.basilicasantospirito.it
SUMMARY:Festa della Conversione e Battesimo di Sant’Agostino
DESCRIPTION:Nel calendario spirituale legato ai Convegni di Santo Spirito\, la comunità celebra la Festa della Conversione e del Battesimo di Sant’Agostino\, con momenti di preghiera\, celebrazione e musica che richiamano le radici spirituali dell’Umanesimo cristiano. \n\n\n\nIl programma della giornata: \n\n\n\n08:30 Lodi Cantate09:00 Santa Messa19:00 Concerto dell’Organo del maestro Giacomelli
URL:https://www.basilicasantospirito.it/calendario/festa-della-conversione-e-battesimo-di-santagostino/
CATEGORIES:Convegni di Santo Spirito,Umanesimo in Santo Spirito
END:VEVENT
BEGIN:VEVENT
DTSTART;TZID=Europe/Paris:20260426T103000
DTEND;TZID=Europe/Paris:20260426T113000
DTSTAMP:20260425T142825
CREATED:20260224T090519Z
LAST-MODIFIED:20260224T090522Z
UID:10804-1777199400-1777203000@www.basilicasantospirito.it
SUMMARY:Santa Messa presieduta dall’Arcivescovo
DESCRIPTION:Celebrazione eucaristica presieduta dall’Arcivescovo di Firenze\, S.E. Mons. Gherardo Gambelli\, inserita nel programma delle iniziative spirituali connesse ai Convegni di Santo Spirito.
URL:https://www.basilicasantospirito.it/calendario/santa-messa-presieduta-dallarcivescovo/
CATEGORIES:Convegni di Santo Spirito,Umanesimo in Santo Spirito
END:VEVENT
END:VCALENDAR