BEGIN:VCALENDAR
VERSION:2.0
PRODID:-//Basilica di Santo Spirito - ECPv6.15.20//NONSGML v1.0//EN
CALSCALE:GREGORIAN
METHOD:PUBLISH
X-WR-CALNAME:Basilica di Santo Spirito
X-ORIGINAL-URL:https://www.basilicasantospirito.it
X-WR-CALDESC:Eventi per Basilica di Santo Spirito
REFRESH-INTERVAL;VALUE=DURATION:PT1H
X-Robots-Tag:noindex
X-PUBLISHED-TTL:PT1H
BEGIN:VTIMEZONE
TZID:Europe/Paris
BEGIN:DAYLIGHT
TZOFFSETFROM:+0100
TZOFFSETTO:+0200
TZNAME:CEST
DTSTART:20250330T010000
END:DAYLIGHT
BEGIN:STANDARD
TZOFFSETFROM:+0200
TZOFFSETTO:+0100
TZNAME:CET
DTSTART:20251026T010000
END:STANDARD
BEGIN:DAYLIGHT
TZOFFSETFROM:+0100
TZOFFSETTO:+0200
TZNAME:CEST
DTSTART:20260329T010000
END:DAYLIGHT
BEGIN:STANDARD
TZOFFSETFROM:+0200
TZOFFSETTO:+0100
TZNAME:CET
DTSTART:20261025T010000
END:STANDARD
BEGIN:DAYLIGHT
TZOFFSETFROM:+0100
TZOFFSETTO:+0200
TZNAME:CEST
DTSTART:20270328T010000
END:DAYLIGHT
BEGIN:STANDARD
TZOFFSETFROM:+0200
TZOFFSETTO:+0100
TZNAME:CET
DTSTART:20271031T010000
END:STANDARD
END:VTIMEZONE
BEGIN:VEVENT
DTSTART;TZID=Europe/Paris:20260616T173000
DTEND;TZID=Europe/Paris:20260616T183000
DTSTAMP:20260424T095854
CREATED:20260224T091308Z
LAST-MODIFIED:20260224T102040Z
UID:10810-1781631000-1781634600@www.basilicasantospirito.it
SUMMARY:Patrizia Giunti\, "Dalla libertas Romana alla Florentina libertas. L’umanesimo di Santo Spirito e la scoperta del civismo politico"
DESCRIPTION:A conclusione de I Convegni di Santo Spirito 2026\, la giurista Patrizia Giunti terrà la conferenza Dalla libertas Romana alla Florentina libertas. L’umanesimo di Santo Spirito e la scoperta del civismo politico\, dedicata alla nascita dell’idea di cittadinanza e libertà civile nella Firenze umanistica.
URL:https://www.basilicasantospirito.it/calendario/patrizia-giunti-dalla-libertas-romana-alla-florentina-libertas-lumanesimo-di-santo-spirito-e-la-scoperta-del-civismo-politico/
CATEGORIES:Convegni di Santo Spirito,Umanesimo in Santo Spirito
END:VEVENT
BEGIN:VEVENT
DTSTART;TZID=Europe/Paris:20260620T063000
DTEND;TZID=Europe/Paris:20260620T170000
DTSTAMP:20260424T095854
CREATED:20260212T103452Z
LAST-MODIFIED:20260307T080435Z
UID:10706-1781937000-1781974800@www.basilicasantospirito.it
SUMMARY:Pellegrinaggio a Roccaporena e Cascia
DESCRIPTION:Inizialmente previsto per il 18 aprile 2026\, Sabato 20 giugno 2026 la Comunità Agostiniana di Santo Spirito propone un pellegrinaggio a Cascia e Roccaporena\, nei luoghi di Santa Rita. Visita alla Cripta\, preghiera all’Urna della Santa\, Santa Messa e pranzo comunitario. Quota €80\,00 con caparra di €50\,00.
URL:https://www.basilicasantospirito.it/calendario/pellegrinaggio-a-roccaporena-e-cascia/
CATEGORIES:Eventi
ATTACH;FMTTYPE=image/jpeg:https://www.basilicasantospirito.it/wp-content/uploads/2026/02/pellegrinaggio-cascia-roccaporena.jpg
END:VEVENT
END:VCALENDAR