BEGIN:VCALENDAR
VERSION:2.0
PRODID:-//Basilica di Santo Spirito - ECPv6.15.20//NONSGML v1.0//EN
CALSCALE:GREGORIAN
METHOD:PUBLISH
X-WR-CALNAME:Basilica di Santo Spirito
X-ORIGINAL-URL:https://www.basilicasantospirito.it
X-WR-CALDESC:Eventi per Basilica di Santo Spirito
REFRESH-INTERVAL;VALUE=DURATION:PT1H
X-Robots-Tag:noindex
X-PUBLISHED-TTL:PT1H
BEGIN:VTIMEZONE
TZID:UTC
BEGIN:STANDARD
TZOFFSETFROM:+0000
TZOFFSETTO:+0000
TZNAME:UTC
DTSTART:20170101T000000
END:STANDARD
END:VTIMEZONE
BEGIN:VEVENT
DTSTART;TZID=UTC:20190315T173000
DTEND;TZID=UTC:20190315T183000
DTSTAMP:20260425T135131
CREATED:20190304T231439Z
LAST-MODIFIED:20190307T115656Z
UID:2306-1552671000-1552674600@www.basilicasantospirito.it
SUMMARY:Pregare con l'Arte: Via Crucis
DESCRIPTION:Pregare con l’Arte è il titolo di una interessantissima novità promossa dalla Famiglia Agostiniana di Santo Spirito: un particolare cammino di preparazione pasquale con l’aiuto della contemplazione di tre opere d’arte che richiamano la misericordia di Gesù attraverso l’offerta della sua vita. La spiegazione artistica sarà curata dal Professor Giovanni Cipriani ed avverrà proprio davanti alle opere\, mentre l’aspetto spirituale sarà affrontato dal Priore della Comunità Padre Giuseppe Pagano. Ad alternare il percorso tre Viae Crucis che si svolgeranno lungo tutto il Percorso Monumentale di Santo Spirito: Chiesa\, Vestibolo\, Sacrestia\, Chiostro\, Sala Capitolare\, Refettorio Nuovo con le Tre Cene del Poccetti. \nDi seguito il calendario degli incontri e delle Viae Crucis: \n8 marzo 2019 ore 17.30: Gesù e l’Adultera dell’Allori \n15 marzo 2019 ore 17.30: Via crucis \n22 marzo 2019 ore 17.30: Crocifisso Ligneo della Confraternita de’ Bianchi \n29 marzo 2019 ore 17.30: Via Crucis \n5 aprile 2019 ore 17.30: Crocifisso che porta la croce del Ceraiolo \n12 aprile 2019 ore 17.30: Via Crucis
URL:https://www.basilicasantospirito.it/calendario/pregare-con-larte-via-crucis/
LOCATION:Basilica di Santo Spirito\, Piazza Santo Spirito 30\, Firenze\, 50125
CATEGORIES:Pregare con l'Arte
ORGANIZER;CN="Comunit%C3%A0 Agostiniana di Santo Spirito":MAILTO:info@basilicadisantospirito.it
END:VEVENT
BEGIN:VEVENT
DTSTART;TZID=UTC:20190308T173000
DTEND;TZID=UTC:20190308T183000
DTSTAMP:20260425T135131
CREATED:20190304T230712Z
LAST-MODIFIED:20190304T230712Z
UID:2302-1552066200-1552069800@www.basilicasantospirito.it
SUMMARY:Pregare con l'arte\, Professor Giovanni Cipriani: Gesù e l’Adultera dell’Allori
DESCRIPTION:Pregare con l’Arte è il titolo di una interessantissima novità promossa dalla Famiglia Agostiniana di Santo Spirito: un particolare cammino di preparazione pasquale con l’aiuto della contemplazione di tre opere d’arte che richiamano la misericordia di Gesù attraverso l’offerta della sua vita. La spiegazione artistica sarà curata dal Professor Giovanni Cipriani ed avverrà proprio davanti alle opere\, mentre l’aspetto spirituale sarà affrontato dal Priore della Comunità Padre Giuseppe Pagano. Ad alternare il percorso tre Viae Crucis che si svolgeranno lungo tutto il Percorso Monumentale di Santo Spirito: Chiesa\, Vestibolo\, Sacrestia\, Chiostro\, Sala Capitolare\, Refettorio Nuovo con le Tre Cene del Poccetti. \nDi seguito il calendario degli incontri e delle Viae Crucis: \n8 marzo 2019 ore 17.30: Gesù e l’Adultera dell’Allori \n15 marzo 2019 ore 17.30: Via crucis \n22 marzo 2019 ore 17.30: Crocifisso Ligneo della Confraternita de’ Bianchi \n29 marzo 2019 ore 19.30: Via Crucis \n5 aprile 2019 ore 17.30: Crocifisso che porta la croce del Ceraiolo \n12 aprile 2019 ore 17.30: Via Crucis
URL:https://www.basilicasantospirito.it/calendario/pregare-con-larte-professor-giovanni-cipriani-gesu-e-ladultera-dellallori/
LOCATION:Basilica di Santo Spirito\, Piazza Santo Spirito 30\, Firenze\, 50125
CATEGORIES:Pregare con l'Arte
ORGANIZER;CN="Comunit%C3%A0 Agostiniana di Santo Spirito":MAILTO:info@basilicadisantospirito.it
END:VEVENT
BEGIN:VEVENT
DTSTART;TZID=UTC:20181207T190000
DTEND;TZID=UTC:20190213T190000
DTSTAMP:20260425T135131
CREATED:20181130T131618Z
LAST-MODIFIED:20190202T054001Z
UID:2143-1544209200-1550084400@www.basilicasantospirito.it
SUMMARY:"Il canto della Vita"\, mostra delle opere di Marcello Aversa
DESCRIPTION:Maggiori info su \n“Il canto della Vita”. A Santo Spirito arriva l’albero della vita di Marcello Aversa
URL:https://www.basilicasantospirito.it/calendario/il-canto-della-vita-mostra-delle-opere-di-marcello-aversa/
LOCATION:Basilica di Santo Spirito\, Piazza Santo Spirito 30\, Firenze\, 50125
CATEGORIES:Mostre
ORGANIZER;CN="Comunit%C3%A0 Agostiniana di Santo Spirito":MAILTO:info@basilicadisantospirito.it
END:VEVENT
BEGIN:VEVENT
DTSTART;TZID=UTC:20181207T170000
DTEND;TZID=UTC:20181207T180000
DTSTAMP:20260425T135131
CREATED:20181130T130431Z
LAST-MODIFIED:20181130T130431Z
UID:2139-1544202000-1544205600@www.basilicasantospirito.it
SUMMARY:Accensione dell'Albero dei Bambini
DESCRIPTION:Maggiori info su \nL’Albero dei Bambini
URL:https://www.basilicasantospirito.it/calendario/accensione-dellalbero-dei-bambini/
LOCATION:Basilica di Santo Spirito\, Piazza Santo Spirito 30\, Firenze\, 50125
CATEGORIES:Eventi
ATTACH;FMTTYPE=image/jpeg:https://www.basilicasantospirito.it/wp-content/uploads/2018/11/Volantino-7-dicembre-Sabbiarelli-1.jpg
ORGANIZER;CN="Comunit%C3%A0 Agostiniana di Santo Spirito":MAILTO:info@basilicadisantospirito.it
END:VEVENT
BEGIN:VEVENT
DTSTART;TZID=UTC:20181006T103000
DTEND;TZID=UTC:20181007T190000
DTSTAMP:20260425T135131
CREATED:20181005T040619Z
LAST-MODIFIED:20181005T040619Z
UID:2064-1538821800-1538938800@www.basilicasantospirito.it
SUMMARY:Floralia per Santo Spirito
DESCRIPTION:Sabato 6 e domenica 7 ottobre si svolgerà “Floralia per Santo Spirito – Giardinaggio fra Creatività e Cultura”\, promosso dalla Associazione Amici di Santo Spirito Onlus. L’evento si svolgerà nel Chiostro del Convento. \nFloralia per Santo Spirito – 6 e 7 ottobre
URL:https://www.basilicasantospirito.it/calendario/floralia-per-santo-spirito/
LOCATION:Chiostro del Convento di Santo Spirito\, Piazza di Santo Spirito\, 30\, Firenze\, 50125\, Italia
CATEGORIES:Eventi
ATTACH;FMTTYPE=image/jpeg:https://www.basilicasantospirito.it/wp-content/uploads/2018/10/Floralia-2018-.jpg
END:VEVENT
BEGIN:VEVENT
DTSTART;TZID=UTC:20180825T080000
DTEND;TZID=UTC:20180828T230000
DTSTAMP:20260425T135131
CREATED:20180812T062045Z
LAST-MODIFIED:20180812T062045Z
UID:2031-1535184000-1535497200@www.basilicasantospirito.it
SUMMARY:Solennità di Sant'Agostino
DESCRIPTION:Il 28 agosto si celebra la Solennità del Santo Padre Agostino. A Santo Spirito ci prepareremo alla festa con il Triduo dal 25 al 27 agosto\, il cui programma delle messe è pubblicato in questa pagina. Il 28 agosto festeggeremo la Solennità con lo spettacolo de La Compagnia delle Seggiole “Non c’è un allora dove non esiste il tempo”\, letture drammatizzate dedicate all’opera di Sant’Agostino. \n\nQui il programma:\nhttp://www.basilicasantospirito.it/solennita-di-santagostino-2018/
URL:https://www.basilicasantospirito.it/calendario/solennita-di-santagostino/
LOCATION:Basilica di Santo Spirito\, Piazza Santo Spirito 30\, Firenze\, 50125
CATEGORIES:Solennità Religiose
ORGANIZER;CN="Comunit%C3%A0 Agostiniana di Santo Spirito":MAILTO:info@basilicadisantospirito.it
END:VEVENT
BEGIN:VEVENT
DTSTART;TZID=UTC:20180707T210000
DTEND;TZID=UTC:20180707T230000
DTSTAMP:20260425T135131
CREATED:20180622T111053Z
LAST-MODIFIED:20180622T111053Z
UID:2002-1530997200-1531004400@www.basilicasantospirito.it
SUMMARY:Concerto Brighton Orchestra - 7 luglio
DESCRIPTION:Maggiori informazioni su \nLa Brighton Orchestra in concerto a Santo Spirito
URL:https://www.basilicasantospirito.it/calendario/concerto-brighton-orchestra-7-luglio/
LOCATION:Basilica di Santo Spirito\, Piazza Santo Spirito 30\, Firenze\, 50125
CATEGORIES:Concerto
END:VEVENT
BEGIN:VEVENT
DTSTART;TZID=UTC:20180703T160000
DTEND;TZID=UTC:20180703T180000
DTSTAMP:20260425T135131
CREATED:20180629T122307Z
LAST-MODIFIED:20180629T122307Z
UID:2020-1530633600-1530640800@www.basilicasantospirito.it
SUMMARY:Concerto Orchestra Giovanile Irvine
DESCRIPTION:3 luglio ore 16 – Ingresso libero \nDi seguito maggiori info: \nL’orchestra giovanile di Irvine in concerto a Santo Spirito
URL:https://www.basilicasantospirito.it/calendario/concerto-orchestra-giovanile-irvine/
LOCATION:Basilica di Santo Spirito\, Piazza Santo Spirito 30\, Firenze\, 50125
CATEGORIES:Concerto
END:VEVENT
BEGIN:VEVENT
DTSTART;TZID=UTC:20180626T190000
DTEND;TZID=UTC:20180626T210000
DTSTAMP:20260425T135131
CREATED:20180623T063206Z
LAST-MODIFIED:20180623T063206Z
UID:2008-1530039600-1530046800@www.basilicasantospirito.it
SUMMARY:Heart of the Valley Children’s Choir\, 26 giugno
DESCRIPTION:Heart of the Valley Children’s Choir
URL:https://www.basilicasantospirito.it/calendario/heart-of-the-valley-childrens-choir-26-giugno/
LOCATION:Basilica di Santo Spirito\, Piazza Santo Spirito 30\, Firenze\, 50125
CATEGORIES:Concerto
END:VEVENT
BEGIN:VEVENT
DTSTART;TZID=UTC:20180620T183000
DTEND;TZID=UTC:20180620T210000
DTSTAMP:20260425T135131
CREATED:20180601T122653Z
LAST-MODIFIED:20180601T122653Z
UID:1943-1529519400-1529528400@www.basilicasantospirito.it
SUMMARY:DEPOSITI\, mnostra fotografica di Marzo Lanza
DESCRIPTION:Il 20 giugno alle ore 18.30 il Chiostro del Convento di Santo Spirito ospiterà la mostra fotografica “Depositi” di Marco Lanza\, a cur adi Luca Farulli. Gli scatti di Marco Lanza ritraggono i depositi dei Musei fotografati dall’autore. \nMaggiori info sulla pagina sottostante \nI Depositi\, mostra fotografica nel Chiostro di Santo Spirito
URL:https://www.basilicasantospirito.it/calendario/depositi-mnostra-fotografica-di-marzo-lanza/
LOCATION:Chiostro del Convento di Santo Spirito\, Piazza di Santo Spirito\, 30\, Firenze\, 50125\, Italia
CATEGORIES:Mostre
END:VEVENT
BEGIN:VEVENT
DTSTART;TZID=UTC:20180619T203000
DTEND;TZID=UTC:20180619T220000
DTSTAMP:20260425T135131
CREATED:20180618T100757Z
LAST-MODIFIED:20180618T100757Z
UID:1974-1529440200-1529445600@www.basilicasantospirito.it
SUMMARY:Concerto dei California Philharmonic Youth Orchestra
DESCRIPTION:Martedì 19 giugno alle ore 20.30 presso la Basilica di Santo Spirito si terrà il concerto del California Philharmonic Youth Orchestra di Saratoga (Calfiornia\, USA). Il coro\, diretto da Byung-Woo Kim\, eseguirà i seguenti brani: \n\nOverture di “Guglielmo Tell (Gioacchino Rossini)\nIl Padrino (Nino Rota)\nAve Maria (Franz Schubert)\nSinfonia No. 9 “Dal nuovo mondo” (Antonin Dovrak)\nI primi di ROma 4° mov. “Appia Antica” (Otorino Respighi)\n\nL’ingresso è gratuito.
URL:https://www.basilicasantospirito.it/calendario/concerto-dei-california-philharmonic-youth-orchestra/
LOCATION:Basilica di Santo Spirito\, Piazza Santo Spirito 30\, Firenze\, 50125
CATEGORIES:Concerto
ATTACH;FMTTYPE=image/jpeg:https://www.basilicasantospirito.it/wp-content/uploads/2018/06/season-open-2015-940x435.jpg
END:VEVENT
BEGIN:VEVENT
DTSTART;TZID=UTC:20180618T190000
DTEND;TZID=UTC:20180618T203000
DTSTAMP:20260425T135131
CREATED:20180605T081235Z
LAST-MODIFIED:20180605T081235Z
UID:1951-1529348400-1529353800@www.basilicasantospirito.it
SUMMARY:Concerto di Musica Giapponese
DESCRIPTION:Maggiori informazioni su \nConcerto di Musica Giapponese
URL:https://www.basilicasantospirito.it/calendario/concerto-di-musica-giapponese/
LOCATION:Basilica di Santo Spirito\, Piazza Santo Spirito 30\, Firenze\, 50125
CATEGORIES:Concerto
END:VEVENT
BEGIN:VEVENT
DTSTART;TZID=UTC:20180611T173000
DTEND;TZID=UTC:20180611T190000
DTSTAMP:20260425T135131
CREATED:20180522T060517Z
LAST-MODIFIED:20180522T060517Z
UID:1896-1528738200-1528743600@www.basilicasantospirito.it
SUMMARY:Conferenza di Antonio Paolucci su "Savonarola e Michelangelo"
DESCRIPTION:Maggiori informazioni su  \n11 giugno\, conferenza di Antonio Paolucci su “Michelangelo e Savonarola”
URL:https://www.basilicasantospirito.it/calendario/conferenza-di-antonio-paolucci-su-savonarola-e-michelangelo/
LOCATION:Basilica di Santo Spirito\, Piazza Santo Spirito 30\, Firenze\, 50125
CATEGORIES:Convegni di Santo Spirito
ORGANIZER;CN="Comunit%C3%A0 Agostiniana di Santo Spirito":MAILTO:info@basilicadisantospirito.it
END:VEVENT
BEGIN:VEVENT
DTSTART;VALUE=DATE:20180519
DTEND;VALUE=DATE:20180523
DTSTAMP:20260425T135131
CREATED:20180509T093925Z
LAST-MODIFIED:20180509T093925Z
UID:1850-1526688000-1527033599@www.basilicasantospirito.it
SUMMARY:Triduo di Preparazione e Festa di Santa Rita
DESCRIPTION:Pubblichiamo il programma previsto a Santo Spirito in occasione del Triduo (19-21 maggio) di preparazione e della Festa di Santa Rita (22 maggio). \nLeggi qui: \nFesta di santa Rita – 22 maggio 2018
URL:https://www.basilicasantospirito.it/calendario/triduo-di-preparazione-e-festa-di-santa-rita/
LOCATION:Basilica di Santo Spirito\, Piazza Santo Spirito 30\, Firenze\, 50125
CATEGORIES:Solennità Religiose
ORGANIZER;CN="Comunit%C3%A0 Agostiniana di Santo Spirito":MAILTO:info@basilicadisantospirito.it
END:VEVENT
BEGIN:VEVENT
DTSTART;TZID=UTC:20180514T173000
DTEND;TZID=UTC:20180514T183000
DTSTAMP:20260425T135131
CREATED:20180509T093639Z
LAST-MODIFIED:20180522T063701Z
UID:1846-1526319000-1526322600@www.basilicasantospirito.it
SUMMARY:Conferenza di Antonio Natali  su “Le colombe di Santo Spirito. Le figure del Paraclito secondo Agostino”\,
DESCRIPTION:Lunedì 14 maggio ore 17.30 presso la Sagrestia della Basilica. \nMaggiori informazioni su: \nConferenza di Antonio Natali  su “Le colombe di Santo Spirito. Le figure del Paraclito secondo Agostino”\,
URL:https://www.basilicasantospirito.it/calendario/conferenza-di-antonio-natali-su-le-colombe-di-santo-spirito-le-figure-del-paraclito-secondo-agostino/
LOCATION:Basilica di Santo Spirito\, Piazza Santo Spirito 30\, Firenze\, 50125
CATEGORIES:Convegni di Santo Spirito
ORGANIZER;CN="Comunit%C3%A0 Agostiniana di Santo Spirito":MAILTO:info@basilicadisantospirito.it
END:VEVENT
BEGIN:VEVENT
DTSTART;TZID=UTC:20180507T173000
DTEND;TZID=UTC:20180507T183000
DTSTAMP:20260425T135131
CREATED:20180417T033536Z
LAST-MODIFIED:20180522T063750Z
UID:1820-1525714200-1525717800@www.basilicasantospirito.it
SUMMARY:Antonio Natali e Carlo Falciani: "Gli Allori di Santo Spirito alla mostra di Palazzo Strozzi".
DESCRIPTION:Lunedì 7 maggio ore 17.30 presso la Sagrestia della Basilica. \nMaggiori informazioni su: \nConferenza di Antonio Natali e Carlo Falciani su “Gli Allori di Santo Spirito alla mostra di Palazzo Strozzi”\,
URL:https://www.basilicasantospirito.it/calendario/antonio-natali-e-carlo-falciani-gli-allori-di-santo-spirito-alla-mostra-di-palazzo-strozzi/
LOCATION:Basilica di Santo Spirito\, Piazza Santo Spirito 30\, Firenze\, 50125
CATEGORIES:Convegni di Santo Spirito
ORGANIZER;CN="Comunit%C3%A0 Agostiniana di Santo Spirito":MAILTO:info@basilicadisantospirito.it
END:VEVENT
BEGIN:VEVENT
DTSTART;TZID=UTC:20180504T173000
DTEND;TZID=UTC:20180504T190000
DTSTAMP:20260425T135131
CREATED:20180417T032424Z
LAST-MODIFIED:20180417T032424Z
UID:1813-1525455000-1525460400@www.basilicasantospirito.it
SUMMARY:Inventari e censimenti delle fonti archivistiche degli Agostiniani in Toscana
DESCRIPTION:Presentazione del volume \nInventari e censimenti delle fonti archivistiche degli Agostiniani in Toscana\na cura di Emanuele Atzori\, promosso dal Centro Culturale Agostiniano e da Nerbini International Lugano 2017. \nQui per maggiori informazioni: \nInventari e censimenti delle fonti archivistiche degli Agostiniani in Toscana
URL:https://www.basilicasantospirito.it/calendario/inventari-e-censimenti-delle-fonti-archivistiche-degli-agostiniani-in-toscana/
LOCATION:Convento di Santo Spirito\, Piazza di Santo Spirito\, 30\, Firenze\, 50125\, Italia
CATEGORIES:Eventi
ORGANIZER;CN="Comunit%C3%A0 Agostiniana di Santo Spirito":MAILTO:info@basilicadisantospirito.it
END:VEVENT
BEGIN:VEVENT
DTSTART;TZID=UTC:20180425T210000
DTEND;TZID=UTC:20180425T223000
DTSTAMP:20260425T135131
CREATED:20180417T031108Z
LAST-MODIFIED:20180417T031108Z
UID:1806-1524690000-1524695400@www.basilicasantospirito.it
SUMMARY:Non c'è un allora dove non esiste il tempo. Letture di Sant'Agostino effettutate dalla Compagnia delle Seggiole
DESCRIPTION:Maggiori info a questo link \nNon c’è un allora dove non esiste il tempo. La Compagnia delle Seggiole legge Sant’Agostino
URL:https://www.basilicasantospirito.it/calendario/non-ce-un-allora-dove-non-esiste-il-tempo-letture-di-santagostino-effettutate-dalla-compagnia-delle-seggiole/
LOCATION:Convento di Santo Spirito\, Piazza di Santo Spirito\, 30\, Firenze\, 50125\, Italia
CATEGORIES:Eventi
ORGANIZER;CN="Comunit%C3%A0 Agostiniana di Santo Spirito":MAILTO:info@basilicadisantospirito.it
END:VEVENT
BEGIN:VEVENT
DTSTART;TZID=UTC:20180416T173000
DTEND;TZID=UTC:20180416T183000
DTSTAMP:20260425T135131
CREATED:20180323T123945Z
LAST-MODIFIED:20180323T123945Z
UID:1754-1523899800-1523903400@www.basilicasantospirito.it
SUMMARY:Giovanni Cipriani: "Caccini e Poccetti a Santo Spirito. Arte\, devozione e mecenatismo"
DESCRIPTION:Il professor Giovanni Cipriani sarà l’ospite del Secondo Convegno di Santo Spirito con la conferenza dal titolo “Caccini e Poccetti a Santo Spirito. Arte\, devozione e mecenatismo“. \nLunedì 16 aprile ore 17.30\, Sala del Capitolo del Convento di Santo Spirito. Ingresso gratuito fino ad esaurimento posti. \nL’evento sarà trasmesso in diretta facebook sulla pagina della Basilica.Sala Capitolare \nPer consultare il programma dei Convegni 2018 fare click qui \n  \n  \n  \n  \n  \n  \n  \n  \n  \n  \n  \n  \n  \n  \n  \n  \n  \n  \n  \n  \n  \n  \n  \n\n\n\n \n\n\n \n \n\n\n\nCOMUNITÀ AGOSTINIANA DI SANTO SPIRITO
URL:https://www.basilicasantospirito.it/calendario/giovanni-cipriani-caccini-e-poccetti-a-santo-spirito-arte-devozione-e-mecenatismo/
LOCATION:Convento di Santo Spirito\, Piazza di Santo Spirito\, 30\, Firenze\, 50125\, Italia
CATEGORIES:Convegni di Santo Spirito
ATTACH;FMTTYPE=image/jpeg:https://www.basilicasantospirito.it/wp-content/uploads/2018/03/conferenza-professor-Cipriani.jpg
ORGANIZER;CN="Comunit%C3%A0 Agostiniana di Santo Spirito":MAILTO:info@basilicadisantospirito.it
END:VEVENT
BEGIN:VEVENT
DTSTART;VALUE=DATE:20180325
DTEND;VALUE=DATE:20180402
DTSTAMP:20260425T135131
CREATED:20180323T130737Z
LAST-MODIFIED:20180323T131553Z
UID:1765-1521936000-1522627199@www.basilicasantospirito.it
SUMMARY:Settimana Santa
DESCRIPTION:Domenica delle Palme  (25 marzo) \nOrario Sante Messe: 9 – 10.30 (partenza della processione alle 10 dalla Madonna del Carmine) – 18 – 21 \nGiovedì Santo (29 marzo) \nOre 18: Celebrazione in Coena Domini. Segue Adorazione Eucaristica fino a Mezzanotte \nVenerdì Santo  (30 marzo) \nOre 9: Preghiera delle Lodi davanti all’altare della Riposizione \nOre 18: Liturgia della Passione del Signore \nOre 21: Via Crucis della zona d’Oltrarno. Partenza dalla Parrocchia di Santa Felicita. Nella Chiesa di Santo Spirito la terza stazione e in Piazza Santo Spirito la quarta. \nSabato Santo (31 marzo) \nOre 9: Preghiera delle Lodi davanti alla Croce \nOre 22: Veglia di Pasqua nella Parrocchia di San Frediano al Cestello \nDomenica di Risurrezione (1 aprile) \nOrario Sante Messe: 9 – 10.30 – 18 – 21
URL:https://www.basilicasantospirito.it/calendario/settimana-santa/
LOCATION:Basilica di Santo Spirito\, Piazza Santo Spirito 30\, Firenze\, 50125
CATEGORIES:Solennità Religiose
ORGANIZER;CN="Comunit%C3%A0 Agostiniana di Santo Spirito":MAILTO:info@basilicadisantospirito.it
END:VEVENT
BEGIN:VEVENT
DTSTART;TZID=UTC:20180319T173000
DTEND;TZID=UTC:20180319T193000
DTSTAMP:20260425T135131
CREATED:20180221T041844Z
LAST-MODIFIED:20180221T041844Z
UID:1733-1521480600-1521487800@www.basilicasantospirito.it
SUMMARY:"Architettura e Spritutalità negli spazi del Sacro"
DESCRIPTION:Conferenza della professoressa Ludovica Sebregondi nell’ambito dei Convegni di Santo Spirito 2018. \nCV del relatore\n \nDi seguito il programma completo.
URL:https://www.basilicasantospirito.it/calendario/architettura-e-spritutalita-negli-spazi-del-sacro/
LOCATION:Convento di Santo Spirito\, Piazza di Santo Spirito\, 30\, Firenze\, 50125\, Italia
CATEGORIES:Convegni di Santo Spirito
ORGANIZER;CN="Comunit%C3%A0 Agostiniana di Santo Spirito":MAILTO:info@basilicadisantospirito.it
END:VEVENT
END:VCALENDAR