BEGIN:VCALENDAR
VERSION:2.0
PRODID:-//Basilica di Santo Spirito - ECPv6.15.20//NONSGML v1.0//EN
CALSCALE:GREGORIAN
METHOD:PUBLISH
X-WR-CALNAME:Basilica di Santo Spirito
X-ORIGINAL-URL:https://www.basilicasantospirito.it
X-WR-CALDESC:Eventi per Basilica di Santo Spirito
REFRESH-INTERVAL;VALUE=DURATION:PT1H
X-Robots-Tag:noindex
X-PUBLISHED-TTL:PT1H
BEGIN:VTIMEZONE
TZID:UTC
BEGIN:STANDARD
TZOFFSETFROM:+0000
TZOFFSETTO:+0000
TZNAME:UTC
DTSTART:20170101T000000
END:STANDARD
END:VTIMEZONE
BEGIN:VEVENT
DTSTART;VALUE=DATE:20180325
DTEND;VALUE=DATE:20180402
DTSTAMP:20260424T195425
CREATED:20180323T130737Z
LAST-MODIFIED:20180323T131553Z
UID:1765-1521936000-1522627199@www.basilicasantospirito.it
SUMMARY:Settimana Santa
DESCRIPTION:Domenica delle Palme  (25 marzo) \nOrario Sante Messe: 9 – 10.30 (partenza della processione alle 10 dalla Madonna del Carmine) – 18 – 21 \nGiovedì Santo (29 marzo) \nOre 18: Celebrazione in Coena Domini. Segue Adorazione Eucaristica fino a Mezzanotte \nVenerdì Santo  (30 marzo) \nOre 9: Preghiera delle Lodi davanti all’altare della Riposizione \nOre 18: Liturgia della Passione del Signore \nOre 21: Via Crucis della zona d’Oltrarno. Partenza dalla Parrocchia di Santa Felicita. Nella Chiesa di Santo Spirito la terza stazione e in Piazza Santo Spirito la quarta. \nSabato Santo (31 marzo) \nOre 9: Preghiera delle Lodi davanti alla Croce \nOre 22: Veglia di Pasqua nella Parrocchia di San Frediano al Cestello \nDomenica di Risurrezione (1 aprile) \nOrario Sante Messe: 9 – 10.30 – 18 – 21
URL:https://www.basilicasantospirito.it/calendario/settimana-santa/
LOCATION:Basilica di Santo Spirito\, Piazza Santo Spirito 30\, Firenze\, 50125
CATEGORIES:Solennità Religiose
ORGANIZER;CN="Comunit%C3%A0 Agostiniana di Santo Spirito":MAILTO:info@basilicadisantospirito.it
END:VEVENT
BEGIN:VEVENT
DTSTART;TZID=UTC:20180319T173000
DTEND;TZID=UTC:20180319T193000
DTSTAMP:20260424T195425
CREATED:20180221T041844Z
LAST-MODIFIED:20180221T041844Z
UID:1733-1521480600-1521487800@www.basilicasantospirito.it
SUMMARY:"Architettura e Spritutalità negli spazi del Sacro"
DESCRIPTION:Conferenza della professoressa Ludovica Sebregondi nell’ambito dei Convegni di Santo Spirito 2018. \nCV del relatore\n \nDi seguito il programma completo.
URL:https://www.basilicasantospirito.it/calendario/architettura-e-spritutalita-negli-spazi-del-sacro/
LOCATION:Convento di Santo Spirito\, Piazza di Santo Spirito\, 30\, Firenze\, 50125\, Italia
CATEGORIES:Convegni di Santo Spirito
ORGANIZER;CN="Comunit%C3%A0 Agostiniana di Santo Spirito":MAILTO:info@basilicadisantospirito.it
END:VEVENT
END:VCALENDAR